BEGIN:VCALENDAR
VERSION:2.0
PRODID:spatie/icalendar-generator
DESCRIPTION:Évènements de 
X-WR-CALDESC:Évènements de 
REFRESH-INTERVAL;VALUE=DURATION:PT1440M
X-PUBLISHED-TTL:PT1440M
BEGIN:VTIMEZONE
TZID:Europe/Paris
BEGIN:STANDARD
DTSTART:20231029T030000Z
TZOFFSETFROM:+0200
TZOFFSETTO:+0100
END:STANDARD
BEGIN:DAYLIGHT
DTSTART:20240331T020000Z
TZOFFSETFROM:+0100
TZOFFSETTO:+0200
END:DAYLIGHT
BEGIN:STANDARD
DTSTART:20241027T030000Z
TZOFFSETFROM:+0200
TZOFFSETTO:+0100
END:STANDARD
END:VTIMEZONE
BEGIN:VTIMEZONE
TZID:UTC
BEGIN:STANDARD
DTSTART:20250725T130414Z
TZOFFSETFROM:+0000
TZOFFSETTO:+0000
END:STANDARD
END:VTIMEZONE
BEGIN:VEVENT
UID:13-13
DTSTAMP:20260421T130414Z
SUMMARY:Jean-Claude GIANADDA\, le troubadour du Bon Dieu\, chantera le dima
 nche 9 juin à 15h\, à l’église d’Altenstadt.
LOCATION:
ORGANIZER;CN=admin3707:MAILTO:paroisse.ssf@wanadoo.fr
DTSTART;TZID=Europe/Paris:20240609T000000
DTEND;TZID=Europe/Paris:20240609T010000
X-ALT-DESC;FMTTYPE=TEXT/HTML:
CATEGORIES:General
URL;VALUE=URI:https://paroisses-catholiques-ssf.com/index.php/mc-events/jea
 n-claude-gianadda-le-troubadour-du-bon-dieu-chantera-le-dimanche-9-juin-a-
 15h-a-leglise-daltenstadt/
METHOD:PUBLISH
END:VEVENT
END:VCALENDAR