BEGIN:VCALENDAR
VERSION:2.0
PRODID:spatie/icalendar-generator
DESCRIPTION:Évènements de 
X-WR-CALDESC:Évènements de 
REFRESH-INTERVAL;VALUE=DURATION:PT1440M
X-PUBLISHED-TTL:PT1440M
BEGIN:VTIMEZONE
TZID:Europe/Paris
BEGIN:STANDARD
DTSTART:20231029T030000Z
TZOFFSETFROM:+0200
TZOFFSETTO:+0100
END:STANDARD
BEGIN:DAYLIGHT
DTSTART:20240331T020000Z
TZOFFSETFROM:+0100
TZOFFSETTO:+0200
END:DAYLIGHT
BEGIN:STANDARD
DTSTART:20241027T030000Z
TZOFFSETFROM:+0200
TZOFFSETTO:+0100
END:STANDARD
END:VTIMEZONE
BEGIN:VTIMEZONE
TZID:UTC
BEGIN:STANDARD
DTSTART:20250725T173911Z
TZOFFSETFROM:+0000
TZOFFSETTO:+0000
END:STANDARD
END:VTIMEZONE
BEGIN:VEVENT
UID:10-10
DTSTAMP:20260421T173911Z
SUMMARY:Camps d'été 2024 organisés par l'A.C.E. du Bas-Rhin du 15 au 21 
 juillet à Lembach pour les 6-10 ans
LOCATION:
ORGANIZER;CN=admin3707:MAILTO:paroisse.ssf@wanadoo.fr
DTSTART;TZID=Europe/Paris:20240715T000000
DTEND;TZID=Europe/Paris:20240721T010000
X-ALT-DESC;FMTTYPE=TEXT/HTML:
CATEGORIES:General
URL;VALUE=URI:https://paroisses-catholiques-ssf.com/index.php/mc-events/cam
 ps-dete-2024-organises-par-la-c-e-du-bas-rhin-du-15-au-21-juillet-a-lembac
 h-pour-les-6-10-ans/
METHOD:PUBLISH
END:VEVENT
END:VCALENDAR