BEGIN:VCALENDAR
VERSION:2.0
PRODID:spatie/icalendar-generator
DESCRIPTION:Évènements de 
X-WR-CALDESC:Évènements de 
REFRESH-INTERVAL;VALUE=DURATION:PT1440M
X-PUBLISHED-TTL:PT1440M
BEGIN:VTIMEZONE
TZID:Europe/Paris
BEGIN:STANDARD
DTSTART:20231029T030000Z
TZOFFSETFROM:+0200
TZOFFSETTO:+0100
END:STANDARD
BEGIN:DAYLIGHT
DTSTART:20240331T020000Z
TZOFFSETFROM:+0100
TZOFFSETTO:+0200
END:DAYLIGHT
BEGIN:STANDARD
DTSTART:20241027T030000Z
TZOFFSETFROM:+0200
TZOFFSETTO:+0100
END:STANDARD
END:VTIMEZONE
BEGIN:VTIMEZONE
TZID:UTC
BEGIN:STANDARD
DTSTART:20250725T114743Z
TZOFFSETFROM:+0000
TZOFFSETTO:+0000
END:STANDARD
END:VTIMEZONE
BEGIN:VEVENT
UID:14-14
DTSTAMP:20260421T114743Z
SUMMARY:Du 22 avril au 29 avril 2024\, le doyenné de Soultz-sous-Forêts a
 ssurera comme chaque année l'adoration du Saint Sacrement au Mont Sainte 
 Odile
LOCATION:
ORGANIZER;CN=admin3707:MAILTO:paroisse.ssf@wanadoo.fr
DTSTART;TZID=Europe/Paris:20240422T000000
DTEND;TZID=Europe/Paris:20240429T010000
X-ALT-DESC;FMTTYPE=TEXT/HTML:
CATEGORIES:General
URL;VALUE=URI:https://paroisses-catholiques-ssf.com/index.php/mc-events/du-
 22-avril-au-29-avril-2024-le-doyenne-de-soultz-sous-forets-assurera-comme-
 chaque-annee-ladoration-du-saint-sacrement-au-mont-sainte-odile/
METHOD:PUBLISH
END:VEVENT
END:VCALENDAR