BEGIN:VCALENDAR
VERSION:2.0
PRODID:spatie/icalendar-generator
DESCRIPTION:Évènements de 
X-WR-CALDESC:Évènements de 
REFRESH-INTERVAL;VALUE=DURATION:PT1440M
X-PUBLISHED-TTL:PT1440M
BEGIN:VTIMEZONE
TZID:Europe/Paris
BEGIN:DAYLIGHT
DTSTART:20230326T020000Z
TZOFFSETFROM:+0100
TZOFFSETTO:+0200
END:DAYLIGHT
BEGIN:STANDARD
DTSTART:20231029T030000Z
TZOFFSETFROM:+0200
TZOFFSETTO:+0100
END:STANDARD
BEGIN:DAYLIGHT
DTSTART:20240331T020000Z
TZOFFSETFROM:+0100
TZOFFSETTO:+0200
END:DAYLIGHT
END:VTIMEZONE
BEGIN:VTIMEZONE
TZID:UTC
BEGIN:STANDARD
DTSTART:20250727T113224Z
TZOFFSETFROM:+0000
TZOFFSETTO:+0000
END:STANDARD
END:VTIMEZONE
BEGIN:VEVENT
UID:3-3
DTSTAMP:20260423T113224Z
SUMMARY:1er dimanche de l'Avent (indiquer le lieux de l'évènement)
LOCATION:
ORGANIZER;CN=admin3707:MAILTO:paroisse.ssf@wanadoo.fr
DTSTART;TZID=Europe/Paris:20231203T000000
DTEND;TZID=Europe/Paris:20231203T010000
X-ALT-DESC;FMTTYPE=TEXT/HTML:
CATEGORIES:General
URL;VALUE=URI:https://paroisses-catholiques-ssf.com/index.php/mc-events/1er
 -dimanche-de-lavent-indiquer-le-lieux-de-levenement/
METHOD:PUBLISH
END:VEVENT
END:VCALENDAR