BEGIN:VCALENDAR
VERSION:2.0
PRODID:spatie/icalendar-generator
DESCRIPTION:Évènements de 
X-WR-CALDESC:Évènements de 
REFRESH-INTERVAL;VALUE=DURATION:PT1440M
X-PUBLISHED-TTL:PT1440M
BEGIN:VTIMEZONE
TZID:Europe/Paris
BEGIN:STANDARD
DTSTART:20231029T030000Z
TZOFFSETFROM:+0200
TZOFFSETTO:+0100
END:STANDARD
BEGIN:DAYLIGHT
DTSTART:20240331T020000Z
TZOFFSETFROM:+0100
TZOFFSETTO:+0200
END:DAYLIGHT
BEGIN:STANDARD
DTSTART:20241027T030000Z
TZOFFSETFROM:+0200
TZOFFSETTO:+0100
END:STANDARD
END:VTIMEZONE
BEGIN:VTIMEZONE
TZID:UTC
BEGIN:STANDARD
DTSTART:20250725T125911Z
TZOFFSETFROM:+0000
TZOFFSETTO:+0000
END:STANDARD
END:VTIMEZONE
BEGIN:VEVENT
UID:6-6
DTSTAMP:20260421T125911Z
SUMMARY:Sortie 6e-5e et CM2
LOCATION:
ORGANIZER;CN=admin3707:MAILTO:paroisse.ssf@wanadoo.fr
DTSTART;TZID=Europe/Paris;VALUE=DATE:20240426
DTEND;TZID=Europe/Paris;VALUE=DATE:20240427
X-ALT-DESC;FMTTYPE=TEXT/HTML:La dernière sortie de l'année de nos 6e-5e e
 t CM2 aura lieu le vendredi 26 avril au Château du Fleckenstein. A vos in
 scriptions !!
CATEGORIES:General
URL;VALUE=URI:https://paroisses-catholiques-ssf.com/index.php/mc-events/sor
 tie-6e-5e-et-cm2/
METHOD:PUBLISH
END:VEVENT
END:VCALENDAR